BEGIN:VCALENDAR
VERSION:2.0
PRODID:gruene-nordwestmecklenburg.de
METHOD:PUBLISH
BEGIN:VTIMEZONE
TZID:Europe/Berlin
X-LIC-LOCATION:Europe/Berlin
BEGIN:DAYLIGHT
TZOFFSETFROM:+0100
TZOFFSETTO:+0200
TZNAME:CEST
DTSTART:19700329T020000
RRULE:FREQ=YEARLY;INTERVAL=1;BYDAY=-1SU;BYMONTH=3
END:DAYLIGHT
BEGIN:STANDARD
TZOFFSETFROM:+0200
TZOFFSETTO:+0100
TZNAME:CET
DTSTART:19701025T030000
RRULE:FREQ=YEARLY;INTERVAL=1;BYDAY=-1SU;BYMONTH=10
END:STANDARD
END:VTIMEZONE
BEGIN:VEVENT
UID:27ef9c904fa5223958fa2198e3f4362e@gruene-nordwestmecklenburg.de
URL;VALUE=URI:https://gruene-nordwestmecklenburg.de/termine/gesichter-geg
 en-rechts-fotoshooting-in-schwerin/
LOCATION:Schwerin, Knotenpunkt e.V. Mecklenburger Str. 19053 Schwerin
SUMMARY:Gesichter gegen rechts – Fotoshooting in Schwerin
DESCRIPTION;ALTREP="data:text/html,%3Cp%3EAm%2024.%20April%20ist%20die%20
 Shootingtour%20in%20Schwerin%20%3Cbr%20%2F%3E%0A%3Cbr%20%2F%3E%0AGesichte
 r%20gegen%20rechts%20ist%20eine%20fotografische%20Bewegung%20gegen%20Rech
 textremismus%3Cbr%20%2F%3E%0Ahttps%3A%2F%2Fgesichtergegenrechts.org%2Feve
 nts%2Fschwerin%2F%3Cbr%20%2F%3E%0A%3Cbr%20%2F%3E%0A%3C%2Fp%3E":Am 24. Apr
 il ist die Shootingtour in Schwerin\n\nGesichter gegen rechts ist eine fo
 tografische Bewegung gegen Rechtextremismus\n\nhttps://gesichtergegenrech
 ts.org/events/schwerin/
CLASS:PUBLIC
DTSTART;TZID=Europe/Berlin:20260424T140000
DTEND;TZID=Europe/Berlin:20260424T180000
DTSTAMP:20260423T143703
END:VEVENT
END:VCALENDAR