BEGIN:VCALENDAR
VERSION:2.0
PRODID:gruene-nordwestmecklenburg.de
METHOD:PUBLISH
BEGIN:VTIMEZONE
TZID:Europe/Berlin
X-LIC-LOCATION:Europe/Berlin
BEGIN:DAYLIGHT
TZOFFSETFROM:+0100
TZOFFSETTO:+0200
TZNAME:CEST
DTSTART:19700329T020000
RRULE:FREQ=YEARLY;INTERVAL=1;BYDAY=-1SU;BYMONTH=3
END:DAYLIGHT
BEGIN:STANDARD
TZOFFSETFROM:+0200
TZOFFSETTO:+0100
TZNAME:CET
DTSTART:19701025T030000
RRULE:FREQ=YEARLY;INTERVAL=1;BYDAY=-1SU;BYMONTH=10
END:STANDARD
END:VTIMEZONE
BEGIN:VEVENT
UID:cd563c99df2388dd7efbb2535ced3ffd@gruene-nordwestmecklenburg.de
URL;VALUE=URI:https://gruene-nordwestmecklenburg.de/termine/stichwahl-bue
 rgermeisterwahl-wismar/
LOCATION:Wismar
SUMMARY:Stichwahl Bürgermeisterwahl Wismar
DESCRIPTION;ALTREP="data:text/html,%3Cp%3E%3C%2Fp%3E":
CLASS:PUBLIC
DTSTART;TZID=Europe/Berlin:20260426
DTEND;TZID=Europe/Berlin:20260427
DTSTAMP:20260422T145335
END:VEVENT
END:VCALENDAR